BEGIN:VCALENDAR
VERSION:2.0
PRODID:-//United Way Blount - ECPv6.15.14//NONSGML v1.0//EN
CALSCALE:GREGORIAN
METHOD:PUBLISH
X-ORIGINAL-URL:https://unitedwayblount.org
X-WR-CALDESC:Events for United Way Blount
REFRESH-INTERVAL;VALUE=DURATION:PT1H
X-Robots-Tag:noindex
X-PUBLISHED-TTL:PT1H
BEGIN:VTIMEZONE
TZID:America/Halifax
BEGIN:DAYLIGHT
TZOFFSETFROM:-0400
TZOFFSETTO:-0300
TZNAME:ADT
DTSTART:20210314T060000
END:DAYLIGHT
BEGIN:STANDARD
TZOFFSETFROM:-0300
TZOFFSETTO:-0400
TZNAME:AST
DTSTART:20211107T050000
END:STANDARD
BEGIN:DAYLIGHT
TZOFFSETFROM:-0400
TZOFFSETTO:-0300
TZNAME:ADT
DTSTART:20220313T060000
END:DAYLIGHT
BEGIN:STANDARD
TZOFFSETFROM:-0300
TZOFFSETTO:-0400
TZNAME:AST
DTSTART:20221106T050000
END:STANDARD
BEGIN:DAYLIGHT
TZOFFSETFROM:-0400
TZOFFSETTO:-0300
TZNAME:ADT
DTSTART:20230312T060000
END:DAYLIGHT
BEGIN:STANDARD
TZOFFSETFROM:-0300
TZOFFSETTO:-0400
TZNAME:AST
DTSTART:20231105T050000
END:STANDARD
END:VTIMEZONE
BEGIN:VEVENT
DTSTART;TZID=America/Halifax:20221028T114500
DTEND;TZID=America/Halifax:20221028T133000
DTSTAMP:20260420T103054
CREATED:20221028T132311Z
LAST-MODIFIED:20221028T132311Z
UID:9724-1666957500-1666963800@unitedwayblount.org
SUMMARY:City of Maryville Chili Lunch
DESCRIPTION:City of Maryville Chili Lunch\nto benefit United Way of Blount County\nOctober 28th from 11:45 a.m. – 1:30 p.m.\nin the Municipal Building Fire Department Bay\n402 W. Broadway Ave. Maryville\n$5 per person donation for chili\, fixings and drink!\nBake sale items can be purchased for an additional charge
URL:https://unitedwayblount.org/event/city-of-maryville-chili-lunch/
LOCATION:Maryville City Municipal Building\, 400 W Broadway Ave\, Maryville\, TN\, 37801\, United States
END:VEVENT
BEGIN:VEVENT
DTSTART;TZID=America/Halifax:20221028T190000
DTEND;TZID=America/Halifax:20221028T210000
DTSTAMP:20260420T103054
CREATED:20221017T195439Z
LAST-MODIFIED:20221017T195439Z
UID:9723-1666983600-1666990800@unitedwayblount.org
SUMMARY:CFPC Monster Mash for UWBC
DESCRIPTION:Grab your favorite costume\, a friend and don’t forget your dancing shoes- we’re having a MONSTER MASH!!\nJoin us on Friday\, October 28th at 7PM for a great time benefitting the United Way of Blount County.\n Dancing\n Food Truck\n T-Shirts\n Costumes\nAll the things. All the fun. Don’t miss out!!\n\nT-shirts (unisex adult size XS-XXL $25 and youth size YS-YL $15) must be ordered no later than Friday\, October 21st at Noon. Venmo to @Georgana-Novinger and include your shirt size(s) in the comments. Don’t want a shirt? No problem. We do ask that you make a minimum donation of $5 to attend the event. Donations can be made via the Venmo above or on site the evening of the event.\n\n**Profits from the shirt sales will be sent to the UWBC. To learn more about how your donation helps the Blount County Community\, visit https://unitedwayblount.org/.
URL:https://unitedwayblount.org/event/cfpc-monster-mash-for-uwbc/
LOCATION:CrossFit Pistol Creek\, 208 College Street\, Maryville\, TN\, 37804\, United States
END:VEVENT
END:VCALENDAR