BEGIN:VCALENDAR
VERSION:2.0
PRODID:-//United Way Blount - ECPv6.15.14//NONSGML v1.0//EN
CALSCALE:GREGORIAN
METHOD:PUBLISH
X-ORIGINAL-URL:https://unitedwayblount.org
X-WR-CALDESC:Events for United Way Blount
REFRESH-INTERVAL;VALUE=DURATION:PT1H
X-Robots-Tag:noindex
X-PUBLISHED-TTL:PT1H
BEGIN:VTIMEZONE
TZID:America/Halifax
BEGIN:DAYLIGHT
TZOFFSETFROM:-0400
TZOFFSETTO:-0300
TZNAME:ADT
DTSTART:20210314T060000
END:DAYLIGHT
BEGIN:STANDARD
TZOFFSETFROM:-0300
TZOFFSETTO:-0400
TZNAME:AST
DTSTART:20211107T050000
END:STANDARD
BEGIN:DAYLIGHT
TZOFFSETFROM:-0400
TZOFFSETTO:-0300
TZNAME:ADT
DTSTART:20220313T060000
END:DAYLIGHT
BEGIN:STANDARD
TZOFFSETFROM:-0300
TZOFFSETTO:-0400
TZNAME:AST
DTSTART:20221106T050000
END:STANDARD
BEGIN:DAYLIGHT
TZOFFSETFROM:-0400
TZOFFSETTO:-0300
TZNAME:ADT
DTSTART:20230312T060000
END:DAYLIGHT
BEGIN:STANDARD
TZOFFSETFROM:-0300
TZOFFSETTO:-0400
TZNAME:AST
DTSTART:20231105T050000
END:STANDARD
END:VTIMEZONE
BEGIN:VEVENT
DTSTART;TZID=America/Halifax:20221118T120000
DTEND;TZID=America/Halifax:20221118T130000
DTSTAMP:20260421T071332
CREATED:20221028T145731Z
LAST-MODIFIED:20221028T145731Z
UID:9725-1668772800-1668776400@unitedwayblount.org
SUMMARY:Victory Celebration
DESCRIPTION:Victory Celebration \npresented by Jackie S. Mills Homes \nFriday\, November 18th from 12:00p.m. – 1:00p.m. \nat the Showroom at Five Points \n1529 E. Broadway Ave. Maryville \nLunch provided by our Meeting Sponsors \nRSVP to uwbc@unitedwayblount.org
URL:https://unitedwayblount.org/event/4194/
LOCATION:The Showroom at Five Points\, 1529 E Broadway Ave\, Maryville\, TN\, 37804\, United States
CATEGORIES:Victory
ORGANIZER;CN="Emily Mantooth":MAILTO:emantooth@unitedwayblount.org
END:VEVENT
END:VCALENDAR