BEGIN:VCALENDAR
VERSION:2.0
PRODID:-//United Way Blount - ECPv6.15.14//NONSGML v1.0//EN
CALSCALE:GREGORIAN
METHOD:PUBLISH
X-WR-CALNAME:United Way Blount
X-ORIGINAL-URL:https://unitedwayblount.org
X-WR-CALDESC:Events for United Way Blount
REFRESH-INTERVAL;VALUE=DURATION:PT1H
X-Robots-Tag:noindex
X-PUBLISHED-TTL:PT1H
BEGIN:VTIMEZONE
TZID:America/Halifax
BEGIN:DAYLIGHT
TZOFFSETFROM:-0400
TZOFFSETTO:-0300
TZNAME:ADT
DTSTART:20220313T060000
END:DAYLIGHT
BEGIN:STANDARD
TZOFFSETFROM:-0300
TZOFFSETTO:-0400
TZNAME:AST
DTSTART:20221106T050000
END:STANDARD
BEGIN:DAYLIGHT
TZOFFSETFROM:-0400
TZOFFSETTO:-0300
TZNAME:ADT
DTSTART:20230312T060000
END:DAYLIGHT
BEGIN:STANDARD
TZOFFSETFROM:-0300
TZOFFSETTO:-0400
TZNAME:AST
DTSTART:20231105T050000
END:STANDARD
BEGIN:DAYLIGHT
TZOFFSETFROM:-0400
TZOFFSETTO:-0300
TZNAME:ADT
DTSTART:20240310T060000
END:DAYLIGHT
BEGIN:STANDARD
TZOFFSETFROM:-0300
TZOFFSETTO:-0400
TZNAME:AST
DTSTART:20241103T050000
END:STANDARD
END:VTIMEZONE
BEGIN:VEVENT
DTSTART;VALUE=DATE:20231020
DTEND;VALUE=DATE:20231021
DTSTAMP:20260422T063128
CREATED:20230223T194709Z
LAST-MODIFIED:20230223T194709Z
UID:9733-1697760000-1697846399@unitedwayblount.org
SUMMARY:Sporting Clays Tournament
DESCRIPTION:  \n[ninja_form id=19]
URL:https://unitedwayblount.org/event/sportingclays/
LOCATION:Iron Mountain Sporting Clays\, 410 Hardin Road\, Kodak\, TN\, 37764\, United States
CATEGORIES:Clay Shoot
ORGANIZER;CN="Travis Jones":MAILTO:uwbc@unitedwayblount.org
END:VEVENT
END:VCALENDAR