BEGIN:VCALENDAR
VERSION:2.0
PRODID:-//United Way Blount - ECPv6.15.14//NONSGML v1.0//EN
CALSCALE:GREGORIAN
METHOD:PUBLISH
X-WR-CALNAME:United Way Blount
X-ORIGINAL-URL:https://unitedwayblount.org
X-WR-CALDESC:Events for United Way Blount
REFRESH-INTERVAL;VALUE=DURATION:PT1H
X-Robots-Tag:noindex
X-PUBLISHED-TTL:PT1H
BEGIN:VTIMEZONE
TZID:America/Halifax
BEGIN:DAYLIGHT
TZOFFSETFROM:-0400
TZOFFSETTO:-0300
TZNAME:ADT
DTSTART:20210314T060000
END:DAYLIGHT
BEGIN:STANDARD
TZOFFSETFROM:-0300
TZOFFSETTO:-0400
TZNAME:AST
DTSTART:20211107T050000
END:STANDARD
BEGIN:DAYLIGHT
TZOFFSETFROM:-0400
TZOFFSETTO:-0300
TZNAME:ADT
DTSTART:20220313T060000
END:DAYLIGHT
BEGIN:STANDARD
TZOFFSETFROM:-0300
TZOFFSETTO:-0400
TZNAME:AST
DTSTART:20221106T050000
END:STANDARD
BEGIN:DAYLIGHT
TZOFFSETFROM:-0400
TZOFFSETTO:-0300
TZNAME:ADT
DTSTART:20230312T060000
END:DAYLIGHT
BEGIN:STANDARD
TZOFFSETFROM:-0300
TZOFFSETTO:-0400
TZNAME:AST
DTSTART:20231105T050000
END:STANDARD
END:VTIMEZONE
BEGIN:VEVENT
DTSTART;TZID=America/Halifax:20221105T110000
DTEND;TZID=America/Halifax:20221105T220000
DTSTAMP:20260421T053636
CREATED:20220930T124244Z
LAST-MODIFIED:20220930T124244Z
UID:9721-1667646000-1667685600@unitedwayblount.org
SUMMARY:United Way Dine-Out Day @ Aubrey's
DESCRIPTION:
URL:https://unitedwayblount.org/event/united-way-dine-out-day-aubreys/
LOCATION:Aubrey’s Restaurant\, 909 W. Lamar Alexander Parkway\, Maryville\, TN\, 37801\, United States
CATEGORIES:Dine Out
ORGANIZER;CN="Travis Jones":MAILTO:uwbc@unitedwayblount.org
END:VEVENT
BEGIN:VEVENT
DTSTART;VALUE=DATE:20221107
DTEND;VALUE=DATE:20221113
DTSTAMP:20260421T053636
CREATED:20220930T130933Z
LAST-MODIFIED:20220930T130933Z
UID:9722-1667779200-1668297599@unitedwayblount.org
SUMMARY:CryoStretch Give Back Week for United Way
DESCRIPTION:
URL:https://unitedwayblount.org/event/cryostretch-give-back-week-for-united-way/
LOCATION:CryoStretch\, 355 Hannum Street\, Alcoa\, TN\, 37701\, United States
ORGANIZER;CN="Emily Mantooth":MAILTO:emantooth@unitedwayblount.org
END:VEVENT
BEGIN:VEVENT
DTSTART;TZID=America/Halifax:20221110T110000
DTEND;TZID=America/Halifax:20221110T133000
DTSTAMP:20260421T053636
CREATED:20221028T154653Z
LAST-MODIFIED:20221028T154653Z
UID:9726-1668078000-1668087000@unitedwayblount.org
SUMMARY:City of Alcoa Chili Lunch for UWBC
DESCRIPTION:City of Alcoa Chili Lunch \nto benefit United Way of Blount County \nThursday\, November 10th from 11:00a.m. – 1:30p.m. \nat the City of Alcoa Fire Department \n2010 N. Wright Road\, Alcoa \n$5 per person donation for chili\, fixings\, and drink! \nHomemade desserts will be available for purchase.
URL:https://unitedwayblount.org/event/city-of-alcoa-chili-lunch-for-uwbc/
CATEGORIES:Alcoa Fire Department,Chili Lunch,Dine Out
ORGANIZER;CN="Emily Mantooth":MAILTO:emantooth@unitedwayblount.org
END:VEVENT
BEGIN:VEVENT
DTSTART;TZID=America/Halifax:20221118T120000
DTEND;TZID=America/Halifax:20221118T130000
DTSTAMP:20260421T053636
CREATED:20221028T145731Z
LAST-MODIFIED:20221028T145731Z
UID:9725-1668772800-1668776400@unitedwayblount.org
SUMMARY:Victory Celebration
DESCRIPTION:Victory Celebration \npresented by Jackie S. Mills Homes \nFriday\, November 18th from 12:00p.m. – 1:00p.m. \nat the Showroom at Five Points \n1529 E. Broadway Ave. Maryville \nLunch provided by our Meeting Sponsors \nRSVP to uwbc@unitedwayblount.org
URL:https://unitedwayblount.org/event/4194/
LOCATION:The Showroom at Five Points\, 1529 E Broadway Ave\, Maryville\, TN\, 37804\, United States
CATEGORIES:Victory
ORGANIZER;CN="Emily Mantooth":MAILTO:emantooth@unitedwayblount.org
END:VEVENT
END:VCALENDAR