BEGIN:VCALENDAR
VERSION:2.0
PRODID:-//United Way Blount - ECPv6.15.14//NONSGML v1.0//EN
CALSCALE:GREGORIAN
METHOD:PUBLISH
X-ORIGINAL-URL:https://unitedwayblount.org
X-WR-CALDESC:Events for United Way Blount
REFRESH-INTERVAL;VALUE=DURATION:PT1H
X-Robots-Tag:noindex
X-PUBLISHED-TTL:PT1H
BEGIN:VTIMEZONE
TZID:America/New_York
BEGIN:DAYLIGHT
TZOFFSETFROM:-0500
TZOFFSETTO:-0400
TZNAME:EDT
DTSTART:20250309T070000
END:DAYLIGHT
BEGIN:STANDARD
TZOFFSETFROM:-0400
TZOFFSETTO:-0500
TZNAME:EST
DTSTART:20251102T060000
END:STANDARD
BEGIN:DAYLIGHT
TZOFFSETFROM:-0500
TZOFFSETTO:-0400
TZNAME:EDT
DTSTART:20260308T070000
END:DAYLIGHT
BEGIN:STANDARD
TZOFFSETFROM:-0400
TZOFFSETTO:-0500
TZNAME:EST
DTSTART:20261101T060000
END:STANDARD
BEGIN:DAYLIGHT
TZOFFSETFROM:-0500
TZOFFSETTO:-0400
TZNAME:EDT
DTSTART:20270314T070000
END:DAYLIGHT
BEGIN:STANDARD
TZOFFSETFROM:-0400
TZOFFSETTO:-0500
TZNAME:EST
DTSTART:20271107T060000
END:STANDARD
END:VTIMEZONE
BEGIN:VEVENT
DTSTART;TZID=America/New_York:20260130T120000
DTEND;TZID=America/New_York:20260130T130000
DTSTAMP:20260422T112027
CREATED:20260109T143759Z
LAST-MODIFIED:20260109T143759Z
UID:9818-1769774400-1769778000@unitedwayblount.org
SUMMARY:2026 Annual Meeting
DESCRIPTION:You’re invited to the 2026 Annual Meeting! \nFriday\, January 30\, 2026 – 12-1 p.m.\nNew Providence Presbyterian Church – Westminster Hall\n703 W Broadway Ave\, Maryville\, TN 37801
URL:https://unitedwayblount.org/event/2026-annual-meeting/
LOCATION:New Providence Presbyterian Church\, 703 W Broadway Ave\, Maryville\, TN\, 37801
ORGANIZER;CN="Emily Mantooth":MAILTO:emantooth@unitedwayblount.org
END:VEVENT
END:VCALENDAR